BEGIN:VCALENDAR
VERSION:2.0
PRODID:-//wp-events-plugin.com//7.2.3.1//EN
TZID:America/Detroit
X-WR-TIMEZONE:America/Detroit
BEGIN:VEVENT
UID:2@akronpridefestival.org
DTSTART;TZID=America/New_York:20260822T100000
DTEND;TZID=America/New_York:20260822T220000
DTSTAMP:20260219T211914Z
URL:https://akronpridefestival.org/events/akron-pride-festival-and-equity-
 march-2026/
SUMMARY:Akron Pride Festival and Equity March 2026
DESCRIPTION:We can't wait to see you all in Downtown Akron as we celebrate 
 Akron LGBTQ+ Pride 2026! Enjoy local and national entertainers\, exhibitor
 s\, interactive children's area\, food trucks\, nosh and so much more! Our
  Equity March registration opens May 15th\, 2026. Discover Sponsorship\, E
 xhibitor and Volunteer Opportunities.
ATTACH;FMTTYPE=image/jpeg:https://i0.wp.com/akronpridefestival.org/wp-cont
 ent/uploads/2025/06/APF-2025-CROWD.jpg?fit=800%2C585&ssl=1
LOCATION:Main Street\, Downtown Akron\, Main Street\, Akron\, OH\, 44308\, 
 United States
X-APPLE-STRUCTURED-LOCATION;VALUE=URI;X-ADDRESS=Main Street\, Akron\, OH\, 
 44308\, United States;X-APPLE-RADIUS=100;X-TITLE=Main Street\, Downtown Ak
 ron:geo:0,0
END:VEVENT
BEGIN:VTIMEZONE
TZID:America/New_York
X-LIC-LOCATION:America/New_York
BEGIN:DAYLIGHT
DTSTART:20260308T030000
TZOFFSETFROM:-0500
TZOFFSETTO:-0400
TZNAME:EDT
END:DAYLIGHT
END:VTIMEZONE
END:VCALENDAR